BEGIN:VCALENDAR
VERSION:2.0
PRODID:-//Colegio Assunta Pallotta - ECPv6.15.17.1//NONSGML v1.0//EN
CALSCALE:GREGORIAN
METHOD:PUBLISH
X-WR-CALNAME:Colegio Assunta Pallotta
X-ORIGINAL-URL:https://assunta.cl
X-WR-CALDESC:Eventos para Colegio Assunta Pallotta
REFRESH-INTERVAL;VALUE=DURATION:PT1H
X-Robots-Tag:noindex
X-PUBLISHED-TTL:PT1H
BEGIN:VTIMEZONE
TZID:America/Halifax
BEGIN:DAYLIGHT
TZOFFSETFROM:-0400
TZOFFSETTO:-0300
TZNAME:ADT
DTSTART:20230312T060000
END:DAYLIGHT
BEGIN:STANDARD
TZOFFSETFROM:-0300
TZOFFSETTO:-0400
TZNAME:AST
DTSTART:20231105T050000
END:STANDARD
BEGIN:DAYLIGHT
TZOFFSETFROM:-0400
TZOFFSETTO:-0300
TZNAME:ADT
DTSTART:20240310T060000
END:DAYLIGHT
BEGIN:STANDARD
TZOFFSETFROM:-0300
TZOFFSETTO:-0400
TZNAME:AST
DTSTART:20241103T050000
END:STANDARD
BEGIN:DAYLIGHT
TZOFFSETFROM:-0400
TZOFFSETTO:-0300
TZNAME:ADT
DTSTART:20250309T060000
END:DAYLIGHT
BEGIN:STANDARD
TZOFFSETFROM:-0300
TZOFFSETTO:-0400
TZNAME:AST
DTSTART:20251102T050000
END:STANDARD
END:VTIMEZONE
BEGIN:VEVENT
DTSTART;TZID=America/Halifax:20241118T105000
DTEND;TZID=America/Halifax:20241118T122000
DTSTAMP:20260414T071444
CREATED:20241118T135522Z
LAST-MODIFIED:20241118T141019Z
UID:1199-1731927000-1731932400@assunta.cl
SUMMARY:DIA Lectura 2ºB (Evaluación de cierre)
DESCRIPTION:Estudiantes de 2ºB rinden DIA evaluación de cierre de Lectura. \nDe 11:50 a 13:20 hrs
URL:https://assunta.cl/calendario/dia-lectura-2ob-evaluacion-de-cierre/
LOCATION:AUDITORIO\, Colegio Assunta Pallotta
END:VEVENT
BEGIN:VEVENT
DTSTART;TZID=America/Halifax:20241118T091000
DTEND;TZID=America/Halifax:20241118T104000
DTSTAMP:20260414T071444
CREATED:20241118T134320Z
LAST-MODIFIED:20241118T140810Z
UID:1192-1731921000-1731926400@assunta.cl
SUMMARY:DIA Lectura 1ºC (Evaluación de cierre)
DESCRIPTION:Estudiantes de 1ºC rinden DIA evaluación de cierre de Lectura. \nDe 10:10 a 11:40 hrs
URL:https://assunta.cl/calendario/dia-lectura-1oc-evaluacion-de-cierre/
LOCATION:AUDITORIO\, Colegio Assunta Pallotta
END:VEVENT
BEGIN:VEVENT
DTSTART;TZID=America/Halifax:20241118T070000
DTEND;TZID=America/Halifax:20241120T160000
DTSTAMP:20260414T071444
CREATED:20241022T213446Z
LAST-MODIFIED:20241022T213446Z
UID:1044-1731913200-1732118400@assunta.cl
SUMMARY:Ensayo PAES
DESCRIPTION:Desde el Lunes 18 al Miércoles 20 de Noviembre los estudiantes de cuarto medio rendirán ensayos PAES.
URL:https://assunta.cl/calendario/ensayo-paes/
END:VEVENT
BEGIN:VEVENT
DTSTART;TZID=America/Halifax:20241115T091000
DTEND;TZID=America/Halifax:20241115T104000
DTSTAMP:20260414T071444
CREATED:20241118T135716Z
LAST-MODIFIED:20241118T141216Z
UID:1203-1731661800-1731667200@assunta.cl
SUMMARY:DIA Lectura 2ºA (Evaluación de cierre)
DESCRIPTION:Estudiantes de 2ºA rinden DIA evaluación de cierre de Lectura. \nDe 10:10 a 11:40 hrs
URL:https://assunta.cl/calendario/dia-lectura-2oa-evaluacion-de-cierre/
LOCATION:AUDITORIO\, Colegio Assunta Pallotta
END:VEVENT
BEGIN:VEVENT
DTSTART;TZID=America/Halifax:20241115T070000
DTEND;TZID=America/Halifax:20241115T160000
DTSTAMP:20260414T071444
CREATED:20241022T213302Z
LAST-MODIFIED:20241023T152947Z
UID:1042-1731654000-1731686400@assunta.cl
SUMMARY:Entrega de informes de notas
DESCRIPTION:El Viernes 15 de Noviembre se entregará informes de notas de manera presencial a los apoderados de Cuartos medios.
URL:https://assunta.cl/calendario/entrega-de-informes-de-notas/
END:VEVENT
BEGIN:VEVENT
DTSTART;TZID=America/Halifax:20241113T070000
DTEND;TZID=America/Halifax:20241114T160000
DTSTAMP:20260414T071444
CREATED:20241022T214528Z
LAST-MODIFIED:20241022T214528Z
UID:1052-1731481200-1731600000@assunta.cl
SUMMARY:SIMCE
DESCRIPTION:Aplicación SIMCE de Lectura y Matemáticas a Segundos medios
URL:https://assunta.cl/calendario/simce/
END:VEVENT
BEGIN:VEVENT
DTSTART;TZID=America/Halifax:20241111T070000
DTEND;TZID=America/Halifax:20241111T160000
DTSTAMP:20260414T071444
CREATED:20241022T213202Z
LAST-MODIFIED:20241022T213202Z
UID:1040-1731308400-1731340800@assunta.cl
SUMMARY:Rendición de Exámenes
DESCRIPTION:El día Lunes 11 de Noviembre los estudiantes deben rendir exámenes.
URL:https://assunta.cl/calendario/rendicion-de-examenes/
END:VEVENT
BEGIN:VEVENT
DTSTART;TZID=America/Halifax:20241108T070000
DTEND;TZID=America/Halifax:20241108T160000
DTSTAMP:20260414T071444
CREATED:20241022T213030Z
LAST-MODIFIED:20241022T213030Z
UID:1037-1731049200-1731081600@assunta.cl
SUMMARY:Nómina de exámenes
DESCRIPTION:El día Viernes 8 de Noviembre se entregará listado de estudiantes de Cuarto medio que rinden exámenes.
URL:https://assunta.cl/calendario/nomina-de-examenes/
LOCATION:COLEGIO ASSUNTA PALLOTTA
END:VEVENT
BEGIN:VEVENT
DTSTART;TZID=America/Halifax:20241104T070000
DTEND;TZID=America/Halifax:20241107T160000
DTSTAMP:20260414T071444
CREATED:20241022T203745Z
LAST-MODIFIED:20241022T203745Z
UID:1020-1730703600-1730995200@assunta.cl
SUMMARY:Cierre de promedios de 4tos medios
DESCRIPTION:El período donde los promedios de Cuartos medios deben estar cerrados es desde el 4 al 7 de Noviembre.
URL:https://assunta.cl/calendario/cierre-de-promedios-de-4tos-medios/
LOCATION:COLEGIO ASSUNTA PALLOTTA
END:VEVENT
BEGIN:VEVENT
DTSTART;TZID=America/Halifax:20241010T160000
DTEND;TZID=America/Halifax:20241010T180000
DTSTAMP:20260414T071444
CREATED:20241002T124448Z
LAST-MODIFIED:20241002T124523Z
UID:658-1728576000-1728583200@assunta.cl
SUMMARY:Reunión de Apoderados
DESCRIPTION:Reunión de apoderados \n\nInformaciones generales\nEntrega de notas parciales
URL:https://assunta.cl/calendario/reunion-de-apoderados-2/
LOCATION:COLEGIO ASSUNTA PALLOTTA
END:VEVENT
BEGIN:VEVENT
DTSTART;TZID=America/Halifax:20240930T070000
DTEND;TZID=America/Halifax:20241004T160000
DTSTAMP:20260414T071444
CREATED:20240902T171633Z
LAST-MODIFIED:20240902T171633Z
UID:504-1727679600-1728057600@assunta.cl
SUMMARY:Semana aniversario CAP
DESCRIPTION:
URL:https://assunta.cl/calendario/semana-aniversario-cap/
LOCATION:COLEGIO ASSUNTA PALLOTTA
END:VEVENT
BEGIN:VEVENT
DTSTART;TZID=America/Halifax:20240923T070000
DTEND;TZID=America/Halifax:20240923T160000
DTSTAMP:20260414T071444
CREATED:20240902T171541Z
LAST-MODIFIED:20240902T171541Z
UID:502-1727074800-1727107200@assunta.cl
SUMMARY:Inicio del uso de uniforme de verano
DESCRIPTION:
URL:https://assunta.cl/calendario/inicio-del-uso-de-uniforme-de-verano/
LOCATION:COLEGIO ASSUNTA PALLOTTA
END:VEVENT
BEGIN:VEVENT
DTSTART;TZID=America/Halifax:20240916T070000
DTEND;TZID=America/Halifax:20240920T160000
DTSTAMP:20260414T071444
CREATED:20240902T171337Z
LAST-MODIFIED:20240902T171337Z
UID:500-1726470000-1726848000@assunta.cl
SUMMARY:Fiestas Patrias
DESCRIPTION:
URL:https://assunta.cl/calendario/fiestas-patrias/
LOCATION:COLEGIO ASSUNTA PALLOTTA
END:VEVENT
BEGIN:VEVENT
DTSTART;TZID=America/Halifax:20240911T070000
DTEND;TZID=America/Halifax:20240911T160000
DTSTAMP:20260414T071444
CREATED:20240902T171258Z
LAST-MODIFIED:20240902T171401Z
UID:498-1726038000-1726070400@assunta.cl
SUMMARY:Día de la memoria y la democracia
DESCRIPTION:
URL:https://assunta.cl/calendario/dia-de-la-memoria-y-la-democracia/
END:VEVENT
BEGIN:VEVENT
DTSTART;TZID=America/Halifax:20240905T160000
DTEND;TZID=America/Halifax:20240905T180000
DTSTAMP:20260414T071444
CREATED:20240902T171228Z
LAST-MODIFIED:20240902T171228Z
UID:496-1725552000-1725559200@assunta.cl
SUMMARY:Reunión de apoderados
DESCRIPTION:
URL:https://assunta.cl/calendario/reunion-de-apoderados/
LOCATION:COLEGIO ASSUNTA PALLOTTA
END:VEVENT
BEGIN:VEVENT
DTSTART;TZID=America/Halifax:20240826T070000
DTEND;TZID=America/Halifax:20240830T160000
DTSTAMP:20260414T071444
CREATED:20240819T161207Z
LAST-MODIFIED:20240819T161937Z
UID:300-1724655600-1725033600@assunta.cl
SUMMARY:Semana de la educación TP
DESCRIPTION:
URL:https://assunta.cl/calendario/semana-de-la-educacion-tp/
LOCATION:COLEGIO ASSUNTA PALLOTTA
END:VEVENT
BEGIN:VEVENT
DTSTART;TZID=America/Halifax:20240826T070000
DTEND;TZID=America/Halifax:20240826T160000
DTSTAMP:20260414T071444
CREATED:20240819T145015Z
LAST-MODIFIED:20240819T145015Z
UID:276-1724655600-1724688000@assunta.cl
SUMMARY:Día de la educación TP
DESCRIPTION:
URL:https://assunta.cl/calendario/dia-de-la-educacion-tp/
LOCATION:COLEGIO ASSUNTA PALLOTTA
END:VEVENT
BEGIN:VEVENT
DTSTART;TZID=America/Halifax:20240821T123000
DTEND;TZID=America/Halifax:20240821T153000
DTSTAMP:20260414T071444
CREATED:20240819T162749Z
LAST-MODIFIED:20240819T162749Z
UID:305-1724243400-1724254200@assunta.cl
SUMMARY:Día de la solidaridad
DESCRIPTION:
URL:https://assunta.cl/calendario/dia-de-la-solidaridad/
LOCATION:COLEGIO ASSUNTA PALLOTTA
END:VEVENT
END:VCALENDAR